Package: waddR Version: 1.21.0 Command: /home/biocbuild/bbs-3.21-bioc/R/bin/R CMD build --keep-empty-dirs --no-resave-data waddR StartedAt: 2025-02-20 19:44:21 -0500 (Thu, 20 Feb 2025) EndedAt: 2025-02-20 19:46:03 -0500 (Thu, 20 Feb 2025) EllapsedTime: 102.1 seconds RetCode: 0 Status: OK PackageFile: waddR_1.21.0.tar.gz PackageFileSize: 152.1 KiB