Package: waddR Version: 1.21.0 Command: /home/biocbuild/R/R/bin/R CMD check --install=check:waddR.install-out.txt --library=/home/biocbuild/R/R/site-library --no-vignettes --timings waddR_1.21.0.tar.gz StartedAt: 2025-01-27 13:54:36 -0000 (Mon, 27 Jan 2025) EndedAt: 2025-01-27 14:15:46 -0000 (Mon, 27 Jan 2025) EllapsedTime: 1269.6 seconds RetCode: 1 Status: ERROR CheckDir: waddR.Rcheck Warnings: NA