Package: waddR Version: 1.21.0 Command: /home/biocbuild/R/R/bin/R CMD build --keep-empty-dirs --no-resave-data waddR StartedAt: 2025-01-28 03:10:40 -0000 (Tue, 28 Jan 2025) EndedAt: 2025-01-28 03:13:17 -0000 (Tue, 28 Jan 2025) EllapsedTime: 157.1 seconds RetCode: 0 Status: OK PackageFile: waddR_1.21.0.tar.gz PackageFileSize: 157.7 KiB