Package: waddR Version: 1.21.0 Command: /Library/Frameworks/R.framework/Resources/bin/R CMD build --keep-empty-dirs --no-resave-data waddR StartedAt: 2025-02-20 17:53:46 -0500 (Thu, 20 Feb 2025) EndedAt: 2025-02-20 17:54:13 -0500 (Thu, 20 Feb 2025) EllapsedTime: 27.3 seconds RetCode: 1 Status: ERROR PackageFile: None PackageFileSize: NA