Package: vulcan Version: 1.29.0 Command: E:\biocbuild\bbs-3.21-bioc\R\bin\R.exe CMD INSTALL vulcan StartedAt: 2025-02-17 16:53:56 -0500 (Mon, 17 Feb 2025) EndedAt: 2025-02-17 16:55:13 -0500 (Mon, 17 Feb 2025) EllapsedTime: 77.2 seconds RetCode: 0 Status: OK