Package: vulcan Version: 1.29.0 Command: chmod a+r vulcan -R && E:\biocbuild\bbs-3.21-bioc\R\bin\R.exe CMD build --keep-empty-dirs --no-resave-data vulcan StartedAt: 2025-02-17 22:08:50 -0500 (Mon, 17 Feb 2025) EndedAt: 2025-02-17 22:10:40 -0500 (Mon, 17 Feb 2025) EllapsedTime: 110.0 seconds RetCode: 0 Status: OK PackageFile: vulcan_1.29.0.tar.gz PackageFileSize: 254.1 KiB