Package: vulcan Version: 1.29.0 Command: rm -rf vulcan.buildbin-libdir && mkdir vulcan.buildbin-libdir && E:\biocbuild\bbs-3.21-bioc\R\bin\R.exe CMD INSTALL --build --library=vulcan.buildbin-libdir vulcan_1.29.0.tar.gz StartedAt: 2025-02-18 08:32:22 -0500 (Tue, 18 Feb 2025) EndedAt: 2025-02-18 08:33:31 -0500 (Tue, 18 Feb 2025) EllapsedTime: 68.9 seconds RetCode: 0 Status: OK PackageFile: vulcan_1.29.0.zip PackageFileSize: 329.5 KiB