Package: vulcan Version: 1.29.0 Command: /home/biocbuild/bbs-3.21-bioc/R/bin/R CMD INSTALL vulcan StartedAt: 2025-02-17 15:56:55 -0500 (Mon, 17 Feb 2025) EndedAt: 2025-02-17 15:57:55 -0500 (Mon, 17 Feb 2025) EllapsedTime: 59.7 seconds RetCode: 0 Status: OK