Package: vulcan Version: 1.29.0 Command: /home/biocbuild/bbs-3.21-bioc/R/bin/R CMD check --install=check:vulcan.install-out.txt --library=/home/biocbuild/bbs-3.21-bioc/R/site-library --timings vulcan_1.29.0.tar.gz StartedAt: 2025-02-18 03:18:12 -0500 (Tue, 18 Feb 2025) EndedAt: 2025-02-18 03:25:26 -0500 (Tue, 18 Feb 2025) EllapsedTime: 434.5 seconds RetCode: 0 Status: OK CheckDir: vulcan.Rcheck Warnings: 0