Package: vulcan Version: 1.29.0 Command: /Library/Frameworks/R.framework/Resources/bin/R CMD build --keep-empty-dirs --no-resave-data vulcan StartedAt: 2025-02-17 18:35:19 -0500 (Mon, 17 Feb 2025) EndedAt: 2025-02-17 18:36:52 -0500 (Mon, 17 Feb 2025) EllapsedTime: 93.6 seconds RetCode: 0 Status: OK PackageFile: vulcan_1.29.0.tar.gz PackageFileSize: 390.5 KiB