Package: vulcan Version: 1.29.0 Command: /Library/Frameworks/R.framework/Resources/bin/R CMD check --install=check:vulcan.install-out.txt --library=/Library/Frameworks/R.framework/Resources/library --no-vignettes --timings vulcan_1.29.0.tar.gz StartedAt: 2025-02-17 21:59:31 -0500 (Mon, 17 Feb 2025) EndedAt: 2025-02-17 22:02:08 -0500 (Mon, 17 Feb 2025) EllapsedTime: 156.9 seconds RetCode: 0 Status: OK CheckDir: vulcan.Rcheck Warnings: 0