Package: vulcan Version: 1.29.0 Command: /Library/Frameworks/R.framework/Resources/bin/R CMD build --keep-empty-dirs --no-resave-data vulcan StartedAt: 2025-02-17 17:52:21 -0500 (Mon, 17 Feb 2025) EndedAt: 2025-02-17 17:52:57 -0500 (Mon, 17 Feb 2025) EllapsedTime: 36.4 seconds RetCode: 0 Status: OK PackageFile: vulcan_1.29.0.tar.gz PackageFileSize: 390.4 KiB