Package: vtpnet Version: 0.47.0 Command: E:\biocbuild\bbs-3.21-bioc\R\bin\R.exe CMD check --no-multiarch --install=check:vtpnet.install-out.txt --library=E:\biocbuild\bbs-3.21-bioc\R\library --no-vignettes --timings vtpnet_0.47.0.tar.gz StartedAt: 2025-02-21 06:53:37 -0500 (Fri, 21 Feb 2025) EndedAt: 2025-02-21 06:59:53 -0500 (Fri, 21 Feb 2025) EllapsedTime: 375.6 seconds RetCode: 0 Status: OK CheckDir: vtpnet.Rcheck Warnings: 0