Package: vtpnet Version: 0.47.0 Command: /home/biocbuild/bbs-3.21-bioc/R/bin/R CMD INSTALL vtpnet StartedAt: 2025-02-20 15:54:31 -0500 (Thu, 20 Feb 2025) EndedAt: 2025-02-20 15:55:23 -0500 (Thu, 20 Feb 2025) EllapsedTime: 51.5 seconds RetCode: 0 Status: OK