Package: vtpnet Version: 0.47.0 Command: /home/biocbuild/bbs-3.21-bioc/R/bin/R CMD check --install=check:vtpnet.install-out.txt --library=/home/biocbuild/bbs-3.21-bioc/R/site-library --timings vtpnet_0.47.0.tar.gz StartedAt: 2025-02-20 03:33:16 -0500 (Thu, 20 Feb 2025) EndedAt: 2025-02-20 03:39:07 -0500 (Thu, 20 Feb 2025) EllapsedTime: 351.4 seconds RetCode: 0 Status: OK CheckDir: vtpnet.Rcheck Warnings: 0