Package: vsn Version: 3.75.0 Command: E:\biocbuild\bbs-3.21-bioc\R\bin\R.exe CMD INSTALL vsn StartedAt: 2025-02-20 15:30:39 -0500 (Thu, 20 Feb 2025) EndedAt: 2025-02-20 15:31:08 -0500 (Thu, 20 Feb 2025) EllapsedTime: 28.4 seconds RetCode: 0 Status: OK