Package: vsn Version: 3.75.0 Command: E:\biocbuild\bbs-3.21-bioc\R\bin\R.exe CMD check --no-multiarch --install=check:vsn.install-out.txt --library=E:\biocbuild\bbs-3.21-bioc\R\library --no-vignettes --timings vsn_3.75.0.tar.gz StartedAt: 2025-02-21 06:53:25 -0500 (Fri, 21 Feb 2025) EndedAt: 2025-02-21 06:54:47 -0500 (Fri, 21 Feb 2025) EllapsedTime: 81.9 seconds RetCode: 0 Status: OK CheckDir: vsn.Rcheck Warnings: 0