Package: vsn Version: 3.75.0 Command: rm -rf vsn.buildbin-libdir && mkdir vsn.buildbin-libdir && E:\biocbuild\bbs-3.21-bioc\R\bin\R.exe CMD INSTALL --build --library=vsn.buildbin-libdir vsn_3.75.0.tar.gz StartedAt: 2025-02-21 09:21:16 -0500 (Fri, 21 Feb 2025) EndedAt: 2025-02-21 09:21:46 -0500 (Fri, 21 Feb 2025) EllapsedTime: 29.9 seconds RetCode: 0 Status: OK PackageFile: vsn_3.75.0.zip PackageFileSize: 1.565 MiB