Package: vsn Version: 3.75.0 Command: /home/biocbuild/bbs-3.21-bioc/R/bin/R CMD build --keep-empty-dirs --no-resave-data vsn StartedAt: 2025-02-21 20:04:46 -0500 (Fri, 21 Feb 2025) EndedAt: 2025-02-21 20:05:27 -0500 (Fri, 21 Feb 2025) EllapsedTime: 41.0 seconds RetCode: 0 Status: OK PackageFile: vsn_3.75.0.tar.gz PackageFileSize: 1.926 MiB