Package: vsn Version: 3.75.0 Command: /Library/Frameworks/R.framework/Resources/bin/R CMD check --install=check:vsn.install-out.txt --library=/Library/Frameworks/R.framework/Resources/library --no-vignettes --timings vsn_3.75.0.tar.gz StartedAt: 2025-02-20 23:58:49 -0500 (Thu, 20 Feb 2025) EndedAt: 2025-02-20 23:59:59 -0500 (Thu, 20 Feb 2025) EllapsedTime: 69.5 seconds RetCode: 0 Status: OK CheckDir: vsn.Rcheck Warnings: 0