Package: vsn Version: 3.75.0 Command: /Library/Frameworks/R.framework/Resources/bin/R CMD INSTALL vsn StartedAt: 2025-02-20 15:06:28 -0500 (Thu, 20 Feb 2025) EndedAt: 2025-02-20 15:06:32 -0500 (Thu, 20 Feb 2025) EllapsedTime: 3.7 seconds RetCode: 0 Status: OK