Package: vsclust Version: 1.9.10 Command: E:\biocbuild\bbs-3.21-bioc\R\bin\R.exe CMD INSTALL vsclust StartedAt: 2025-02-20 16:11:34 -0500 (Thu, 20 Feb 2025) EndedAt: 2025-02-20 16:13:42 -0500 (Thu, 20 Feb 2025) EllapsedTime: 127.4 seconds RetCode: 0 Status: OK