Package: vsclust Version: 1.9.10 Command: /home/biocbuild/bbs-3.21-bioc/R/bin/R CMD build --keep-empty-dirs --no-resave-data vsclust StartedAt: 2025-02-20 19:43:32 -0500 (Thu, 20 Feb 2025) EndedAt: 2025-02-20 19:45:40 -0500 (Thu, 20 Feb 2025) EllapsedTime: 128.1 seconds RetCode: 0 Status: OK PackageFile: vsclust_1.9.10.tar.gz PackageFileSize: 3.658 MiB