Package: vsclust Version: 1.9.10 Command: /Library/Frameworks/R.framework/Resources/bin/R CMD INSTALL vsclust StartedAt: 2025-02-20 15:23:37 -0500 (Thu, 20 Feb 2025) EndedAt: 2025-02-20 15:24:19 -0500 (Thu, 20 Feb 2025) EllapsedTime: 42.9 seconds RetCode: 0 Status: OK