Package: vsclust Version: 1.9.10 Command: /Library/Frameworks/R.framework/Resources/bin/R CMD check --install=check:vsclust.install-out.txt --library=/Library/Frameworks/R.framework/Resources/library --no-vignettes --timings vsclust_1.9.10.tar.gz StartedAt: 2025-02-20 23:58:37 -0500 (Thu, 20 Feb 2025) EndedAt: 2025-02-21 00:04:13 -0500 (Fri, 21 Feb 2025) EllapsedTime: 336.9 seconds RetCode: 0 Status: WARNINGS CheckDir: vsclust.Rcheck Warnings: 1