Package: vsclust Version: 1.9.10 Command: /Library/Frameworks/R.framework/Resources/bin/R CMD build --keep-empty-dirs --no-resave-data vsclust StartedAt: 2025-02-20 18:36:56 -0500 (Thu, 20 Feb 2025) EndedAt: 2025-02-20 18:39:16 -0500 (Thu, 20 Feb 2025) EllapsedTime: 140.3 seconds RetCode: 0 Status: OK PackageFile: vsclust_1.9.10.tar.gz PackageFileSize: 3.839 MiB