Package: vsclust Version: 1.9.10 Command: rm -rf vsclust.buildbin-libdir && mkdir vsclust.buildbin-libdir && /Users/biocbuild/BBS/utils/build-universal.sh vsclust_1.9.10.tar.gz /Library/Frameworks/R.framework/Resources/bin/R vsclust.buildbin-libdir StartedAt: 2025-02-21 00:59:04 -0500 (Fri, 21 Feb 2025) EndedAt: 2025-02-21 00:59:51 -0500 (Fri, 21 Feb 2025) EllapsedTime: 46.7 seconds RetCode: 0 Status: OK PackageFile: vsclust_1.9.10.tgz PackageFileSize: 3.97 MiB