Package: vsclust Version: 1.9.10 Command: /Library/Frameworks/R.framework/Resources/bin/R CMD check --install=check:vsclust.install-out.txt --library=/Library/Frameworks/R.framework/Resources/library --no-vignettes --timings vsclust_1.9.10.tar.gz StartedAt: 2025-02-19 22:03:41 -0500 (Wed, 19 Feb 2025) EndedAt: 2025-02-19 22:05:37 -0500 (Wed, 19 Feb 2025) EllapsedTime: 116.3 seconds RetCode: 0 Status: WARNINGS CheckDir: vsclust.Rcheck Warnings: 1