Package: vissE Version: 1.15.0 Command: E:\biocbuild\bbs-3.21-bioc\R\bin\R.exe CMD INSTALL vissE StartedAt: 2025-02-19 17:00:34 -0500 (Wed, 19 Feb 2025) EndedAt: 2025-02-19 17:00:48 -0500 (Wed, 19 Feb 2025) EllapsedTime: 13.1 seconds RetCode: 0 Status: OK