Package: visiumStitched Version: 0.99.15 Command: E:\biocbuild\bbs-3.21-bioc\R\bin\R.exe CMD check --no-multiarch --install=check:visiumStitched.install-out.txt --library=E:\biocbuild\bbs-3.21-bioc\R\library --no-vignettes --timings visiumStitched_0.99.15.tar.gz StartedAt: 2025-02-19 06:23:11 -0500 (Wed, 19 Feb 2025) EndedAt: 2025-02-19 06:39:06 -0500 (Wed, 19 Feb 2025) EllapsedTime: 955.0 seconds RetCode: 0 Status: OK CheckDir: visiumStitched.Rcheck Warnings: 0