Package: visiumStitched Version: 0.99.15 Command: chmod a+r visiumStitched -R && E:\biocbuild\bbs-3.21-bioc\R\bin\R.exe CMD build --keep-empty-dirs --no-resave-data visiumStitched StartedAt: 2025-02-18 22:12:04 -0500 (Tue, 18 Feb 2025) EndedAt: 2025-02-18 22:19:25 -0500 (Tue, 18 Feb 2025) EllapsedTime: 440.8 seconds RetCode: 0 Status: OK PackageFile: visiumStitched_0.99.15.tar.gz PackageFileSize: 1.83 MiB