Package: visiumStitched Version: 0.99.15 Command: /home/biocbuild/bbs-3.21-bioc/R/bin/R CMD INSTALL visiumStitched StartedAt: 2025-02-18 15:52:21 -0500 (Tue, 18 Feb 2025) EndedAt: 2025-02-18 15:53:10 -0500 (Tue, 18 Feb 2025) EllapsedTime: 49.3 seconds RetCode: 0 Status: OK