Package: visiumStitched Version: 0.99.15 Command: /Library/Frameworks/R.framework/Resources/bin/R CMD INSTALL visiumStitched StartedAt: 2025-02-18 15:38:55 -0500 (Tue, 18 Feb 2025) EndedAt: 2025-02-18 15:40:02 -0500 (Tue, 18 Feb 2025) EllapsedTime: 67.4 seconds RetCode: 0 Status: OK