Package: viper Version: 1.41.0 Command: E:\biocbuild\bbs-3.21-bioc\R\bin\R.exe CMD INSTALL viper StartedAt: 2025-02-17 15:53:28 -0500 (Mon, 17 Feb 2025) EndedAt: 2025-02-17 15:53:57 -0500 (Mon, 17 Feb 2025) EllapsedTime: 28.4 seconds RetCode: 0 Status: OK