Package: viper Version: 1.41.0 Command: chmod a+r viper -R && E:\biocbuild\bbs-3.21-bioc\R\bin\R.exe CMD build --keep-empty-dirs --no-resave-data viper StartedAt: 2025-02-17 22:07:22 -0500 (Mon, 17 Feb 2025) EndedAt: 2025-02-17 22:12:14 -0500 (Mon, 17 Feb 2025) EllapsedTime: 292.6 seconds RetCode: 0 Status: OK PackageFile: viper_1.41.0.tar.gz PackageFileSize: 314.2 KiB