Package: viper Version: 1.41.0 Command: rm -rf viper.buildbin-libdir && mkdir viper.buildbin-libdir && E:\biocbuild\bbs-3.21-bioc\R\bin\R.exe CMD INSTALL --build --library=viper.buildbin-libdir viper_1.41.0.tar.gz StartedAt: 2025-02-18 08:32:01 -0500 (Tue, 18 Feb 2025) EndedAt: 2025-02-18 08:32:34 -0500 (Tue, 18 Feb 2025) EllapsedTime: 33.2 seconds RetCode: 0 Status: OK PackageFile: viper_1.41.0.zip PackageFileSize: 575.9 KiB