Package: viper Version: 1.41.0 Command: /Library/Frameworks/R.framework/Resources/bin/R CMD INSTALL viper StartedAt: 2025-02-17 15:30:59 -0500 (Mon, 17 Feb 2025) EndedAt: 2025-02-17 15:31:17 -0500 (Mon, 17 Feb 2025) EllapsedTime: 18.1 seconds RetCode: 0 Status: OK