Package: viper Version: 1.41.0 Command: rm -rf viper.buildbin-libdir && mkdir viper.buildbin-libdir && /Users/biocbuild/BBS/utils/build-universal.sh viper_1.41.0.tar.gz /Library/Frameworks/R.framework/Resources/bin/R viper.buildbin-libdir StartedAt: 2025-02-17 22:37:48 -0500 (Mon, 17 Feb 2025) EndedAt: 2025-02-17 22:37:54 -0500 (Mon, 17 Feb 2025) EllapsedTime: 6.1 seconds RetCode: 0 Status: OK PackageFile: viper_1.41.0.tgz PackageFileSize: 764.7 KiB