Package: vidger Version: 1.27.0 Command: rm -rf vidger.buildbin-libdir && mkdir vidger.buildbin-libdir && /Users/biocbuild/BBS/utils/build-universal.sh vidger_1.27.0.tar.gz /Library/Frameworks/R.framework/Resources/bin/R vidger.buildbin-libdir StartedAt: 2025-02-20 01:00:17 -0500 (Thu, 20 Feb 2025) EndedAt: 2025-02-20 01:01:08 -0500 (Thu, 20 Feb 2025) EllapsedTime: 50.9 seconds RetCode: 0 Status: OK PackageFile: vidger_1.27.0.tgz PackageFileSize: 8.933 MiB