Package: velociraptor Version: 1.17.0 Command: E:\biocbuild\bbs-3.21-bioc\R\bin\R.exe CMD INSTALL velociraptor StartedAt: 2025-02-19 16:47:27 -0500 (Wed, 19 Feb 2025) EndedAt: 2025-02-19 16:48:03 -0500 (Wed, 19 Feb 2025) EllapsedTime: 36.4 seconds RetCode: 0 Status: OK