Package: velociraptor Version: 1.17.0 Command: chmod a+r velociraptor -R && E:\biocbuild\bbs-3.21-bioc\R\bin\R.exe CMD build --keep-empty-dirs --no-resave-data velociraptor StartedAt: 2025-02-19 22:15:31 -0500 (Wed, 19 Feb 2025) EndedAt: 2025-02-19 22:19:13 -0500 (Wed, 19 Feb 2025) EllapsedTime: 221.5 seconds RetCode: 0 Status: OK PackageFile: velociraptor_1.17.0.tar.gz PackageFileSize: 559.2 KiB