Package: velociraptor Version: 1.17.0 Command: /Library/Frameworks/R.framework/Resources/bin/R CMD INSTALL velociraptor StartedAt: 2025-02-19 15:38:22 -0500 (Wed, 19 Feb 2025) EndedAt: 2025-02-19 15:38:50 -0500 (Wed, 19 Feb 2025) EllapsedTime: 28.3 seconds RetCode: 0 Status: OK