Package: velociraptor Version: 1.17.0 Command: rm -rf velociraptor.buildbin-libdir && mkdir velociraptor.buildbin-libdir && /Users/biocbuild/BBS/utils/build-universal.sh velociraptor_1.17.0.tar.gz /Library/Frameworks/R.framework/Resources/bin/R velociraptor.buildbin-libdir StartedAt: 2025-02-20 01:00:11 -0500 (Thu, 20 Feb 2025) EndedAt: 2025-02-20 01:00:44 -0500 (Thu, 20 Feb 2025) EllapsedTime: 32.2 seconds RetCode: 0 Status: OK PackageFile: velociraptor_1.17.0.tgz PackageFileSize: 919.1 KiB