Package: velociraptor Version: 1.17.0 Command: /Library/Frameworks/R.framework/Resources/bin/R CMD check --install=check:velociraptor.install-out.txt --library=/Library/Frameworks/R.framework/Resources/library --no-vignettes --timings velociraptor_1.17.0.tar.gz StartedAt: 2025-02-19 22:02:05 -0500 (Wed, 19 Feb 2025) EndedAt: 2025-02-19 22:04:01 -0500 (Wed, 19 Feb 2025) EllapsedTime: 116.4 seconds RetCode: 0 Status: WARNINGS CheckDir: velociraptor.Rcheck Warnings: 2