Package: vbmp Version: 1.75.0 Command: E:\biocbuild\bbs-3.21-bioc\R\bin\R.exe CMD check --no-multiarch --install=check:vbmp.install-out.txt --library=E:\biocbuild\bbs-3.21-bioc\R\library --no-vignettes --timings vbmp_1.75.0.tar.gz StartedAt: 2025-02-19 06:21:07 -0500 (Wed, 19 Feb 2025) EndedAt: 2025-02-19 06:21:36 -0500 (Wed, 19 Feb 2025) EllapsedTime: 28.5 seconds RetCode: 0 Status: OK CheckDir: vbmp.Rcheck Warnings: 0