Package: vbmp Version: 1.75.0 Command: rm -rf vbmp.buildbin-libdir && mkdir vbmp.buildbin-libdir && E:\biocbuild\bbs-3.21-bioc\R\bin\R.exe CMD INSTALL --build --library=vbmp.buildbin-libdir vbmp_1.75.0.tar.gz StartedAt: 2025-02-19 08:38:05 -0500 (Wed, 19 Feb 2025) EndedAt: 2025-02-19 08:38:16 -0500 (Wed, 19 Feb 2025) EllapsedTime: 10.7 seconds RetCode: 0 Status: OK PackageFile: vbmp_1.75.0.zip PackageFileSize: 1.691 MiB