Package: vbmp Version: 1.75.0 Command: /Library/Frameworks/R.framework/Resources/bin/R CMD check --install=check:vbmp.install-out.txt --library=/Library/Frameworks/R.framework/Resources/library --no-vignettes --timings vbmp_1.75.0.tar.gz StartedAt: 2025-02-18 23:51:35 -0500 (Tue, 18 Feb 2025) EndedAt: 2025-02-18 23:52:03 -0500 (Tue, 18 Feb 2025) EllapsedTime: 27.7 seconds RetCode: 0 Status: OK CheckDir: vbmp.Rcheck Warnings: 0