Package: vbmp Version: 1.75.0 Command: /Library/Frameworks/R.framework/Resources/bin/R CMD check --install=check:vbmp.install-out.txt --library=/Library/Frameworks/R.framework/Resources/library --no-vignettes --timings vbmp_1.75.0.tar.gz StartedAt: 2025-02-18 22:01:47 -0500 (Tue, 18 Feb 2025) EndedAt: 2025-02-18 22:01:58 -0500 (Tue, 18 Feb 2025) EllapsedTime: 11.1 seconds RetCode: 0 Status: OK CheckDir: vbmp.Rcheck Warnings: 0