Package: variancePartition Version: 1.37.2 Command: E:\biocbuild\bbs-3.21-bioc\R\bin\R.exe CMD INSTALL variancePartition StartedAt: 2025-02-17 15:37:22 -0500 (Mon, 17 Feb 2025) EndedAt: 2025-02-17 15:39:45 -0500 (Mon, 17 Feb 2025) EllapsedTime: 143.7 seconds RetCode: 0 Status: OK