Package: variancePartition Version: 1.37.2 Command: E:\biocbuild\bbs-3.21-bioc\R\bin\R.exe CMD check --no-multiarch --install=check:variancePartition.install-out.txt --library=E:\biocbuild\bbs-3.21-bioc\R\library --no-vignettes --timings variancePartition_1.37.2.tar.gz StartedAt: 2025-02-18 06:14:19 -0500 (Tue, 18 Feb 2025) EndedAt: 2025-02-18 06:24:30 -0500 (Tue, 18 Feb 2025) EllapsedTime: 610.5 seconds RetCode: 0 Status: OK CheckDir: variancePartition.Rcheck Warnings: 0